BEGIN:VCALENDAR
VERSION:2.0
PRODID:spatie/icalendar-generator
DESCRIPTION:Veranstaltungen von Kleintierzuchtverein Elmpt e. V.
X-WR-CALDESC:Veranstaltungen von Kleintierzuchtverein Elmpt e. V.
REFRESH-INTERVAL;VALUE=DURATION:PT1440M
X-PUBLISHED-TTL:PT1440M
BEGIN:VTIMEZONE
TZID:Europe/Berlin
BEGIN:STANDARD
DTSTART:20161030T030000Z
TZOFFSETFROM:+0200
TZOFFSETTO:+0100
END:STANDARD
BEGIN:DAYLIGHT
DTSTART:20170326T020000Z
TZOFFSETFROM:+0100
TZOFFSETTO:+0200
END:DAYLIGHT
END:VTIMEZONE
BEGIN:VTIMEZONE
TZID:UTC
BEGIN:STANDARD
DTSTART:20250727T085822Z
TZOFFSETFROM:+0000
TZOFFSETTO:+0000
END:STANDARD
END:VTIMEZONE
BEGIN:VEVENT
UID:125-121
DTSTAMP:20260423T085822Z
SUMMARY:1. Tag der Ausstellung [ABGESAGT]
LOCATION:Schützenheim der St. Sebastianus Schützenbruderschaft Friedhofst
 r. 18  Schwalmtal  41366
ORGANIZER;CN=Rafael:MAILTO:admin@ktzv-elmpt.de
DTSTART;TZID=Europe/Berlin:20161231T100000
DTEND;TZID=Europe/Berlin:20161231T160000
X-ALT-DESC;FMTTYPE=TEXT/HTML:Internationale Maas-Schwalm-Nette Rassegeflüg
 elschau 1. Tag der Ausstellung. WEGEN GEFLÜGELPEST H5N8-FALL IN NRW HAT D
 AS LANDESUMWELTMINISTERIUM DIE STALLPFLICHT AUSGEWEITET. AUCH KREIS VIERSE
 N IST DAVON BETROFFEN! AUS DIESEM GRUND SIND ALLE VERANSTALLTUNGEN WIE Z. 
 B. GEFLÜGELSCHAUEN VERBOTEN. AUCH UNSERE VERANSTALLTUNG KANN LEIDER NICHT
  STATT FINDEN...
CATEGORIES:Ausstellung
URL;VALUE=URI:https://www.ktzv-elmpt.de/mc-events/1-tag-der-ausstellung-abg
 esagt/
METHOD:PUBLISH
END:VEVENT
END:VCALENDAR