BEGIN:VCALENDAR
VERSION:2.0
PRODID:spatie/icalendar-generator
DESCRIPTION:Veranstaltungen von Kleintierzuchtverein Elmpt e. V.
X-WR-CALDESC:Veranstaltungen von Kleintierzuchtverein Elmpt e. V.
REFRESH-INTERVAL;VALUE=DURATION:PT1440M
X-PUBLISHED-TTL:PT1440M
BEGIN:VTIMEZONE
TZID:Europe/Berlin
BEGIN:DAYLIGHT
DTSTART:20190331T020000Z
TZOFFSETFROM:+0100
TZOFFSETTO:+0200
END:DAYLIGHT
BEGIN:STANDARD
DTSTART:20191027T030000Z
TZOFFSETFROM:+0200
TZOFFSETTO:+0100
END:STANDARD
END:VTIMEZONE
BEGIN:VTIMEZONE
TZID:UTC
BEGIN:STANDARD
DTSTART:20250727T090009Z
TZOFFSETFROM:+0000
TZOFFSETTO:+0000
END:STANDARD
END:VTIMEZONE
BEGIN:VEVENT
UID:153-148
DTSTAMP:20260423T090009Z
SUMMARY:Tierbesprechung 2019 [NACHHOLTERMIN]
LOCATION:bei Steppi Heiderstraße 101  Wegberg  41844
ORGANIZER;CN=Rafael:MAILTO:admin@ktzv-elmpt.de
DTSTART;TZID=Europe/Berlin:20190914T100000
DTEND;TZID=Europe/Berlin:20190914T180000
X-ALT-DESC;FMTTYPE=TEXT/HTML:Gemütliches Beisammensein der Vereinsmitglied
 er » SIEHE HIER DETAILLIERTE INFORMATIONEN «
CATEGORIES:Fest
URL;VALUE=URI:https://www.ktzv-elmpt.de/mc-events/tierbesprechung-2019-nach
 holtermin/
METHOD:PUBLISH
END:VEVENT
END:VCALENDAR